BEGIN:VCALENDAR
VERSION:2.0
PRODID:-//lightbulb/agenda//NONSGML v1.0//EN
CALSCALE:GREGORIAN
BEGIN:VEVENT
DTEND:20210916T193000
UID:60fa915e8950d
DTSTAMP:20210723T095230
LOCATION:
DESCRIPTION:Delegéierterot
URL;VALUE=URI:https://suessem.csv.lu/2017/09/delegeierterot/
SUMMARY:Delegéierterot
DTSTART:20210916T193000
END:VEVENT
BEGIN:VEVENT
DTEND:20211014T193000
UID:60fa915e8a584
DTSTAMP:20210723T095230
LOCATION:
DESCRIPTION:Delegéierterot
URL;VALUE=URI:https://suessem.csv.lu/2020/01/delegeierterot-2/
SUMMARY:Delegéierterot
DTSTART:20211014T193000
END:VEVENT
BEGIN:VEVENT
DTEND:20211118T193000
UID:60fa915e8d38a
DTSTAMP:20210723T095230
LOCATION:
DESCRIPTION:Delegéierterot
URL;VALUE=URI:https://suessem.csv.lu/2020/01/delegeierterot-6/
SUMMARY:Delegéierterot
DTSTART:20211118T193000
END:VEVENT
BEGIN:VEVENT
DTEND:20211215T193000
UID:60fa915e8e329
DTSTAMP:20210723T095230
LOCATION:
DESCRIPTION:Delegéierterot
URL;VALUE=URI:https://suessem.csv.lu/2020/01/delegeierterot-7/
SUMMARY:Delegéierterot
DTSTART:20211215T193000
END:VEVENT
END:VCALENDAR
